BEGIN:VCALENDAR
VERSION:2.0
PRODID:-//SportPlan//Event Calendar//EN
CALSCALE:GREGORIAN
BEGIN:VEVENT
UID:4665f3d3-d185-48bc-91fa-4d01e405ecf9@sportplan.local
DTSTAMP:20260420T204645Z
DTSTART;VALUE=DATE:20260627
DTEND;VALUE=DATE:20260628
SUMMARY:DGI Hærvejsløbet - L'Étape Denmark 2026
DESCRIPTION:DGI Hærvejsløbet - L'Étape Denmark 2026 is a mass-participation amateur road-cycling sportive finishing in Viborg. The official event site calls it Denmark's biggest cycling sportive and describes the L'Étape Denmark format as a Tour de France-style experience for public riders.
LOCATION:Viborg
URL:https://sportplan.vercel.app/de/events/dgi-haervejslobet-l-etape-denmark-2026-viborg-2026-06-27
END:VEVENT
END:VCALENDAR
