BEGIN:VCALENDAR
VERSION:2.0
PRODID:-//SportPlan//Event Calendar//EN
CALSCALE:GREGORIAN
BEGIN:VEVENT
UID:9f4900d1-607f-4689-bc02-f7d58b7f172e@sportplan.local
DTSTAMP:20260420T191852Z
DTSTART;VALUE=DATE:20260901
DTEND;VALUE=DATE:20260902
SUMMARY:Desafío Urbión 17K
DESCRIPTION:Desafío Urbión 17K se celebrará el 1 de septiembre de 2026 en Covaleda\, Soria\, Castilla y León. Es una buena cita para participantes y acompañantes que buscan un ambiente activo y bien organizado. La distancia anunciada es de 17 km.
LOCATION:Covaleda\, Soria\, Castilla y León
URL:https://sportplan.vercel.app/de/events/desafio-urbion-17k-covaleda-2026-09-01-17k
END:VEVENT
END:VCALENDAR
