BEGIN:VCALENDAR
VERSION:2.0
PRODID:-//SportPlan//Event Calendar//EN
CALSCALE:GREGORIAN
BEGIN:VEVENT
UID:1e8c8384-8951-4060-a897-2e89880d9b72@sportplan.local
DTSTAMP:20260420T192052Z
DTSTART;VALUE=DATE:20260517
DTEND;VALUE=DATE:20260518
SUMMARY:Demi-Marathon Des Bleuets Desjardins
DESCRIPTION:
LOCATION:Sainte-Jeanne-d'Arc
URL:https://sportplan.vercel.app/de/events/demi-marathon-des-bleuets-desjardins-sainte-jeanne-d-arc-2026-05-17
END:VEVENT
END:VCALENDAR
