BEGIN:VCALENDAR
VERSION:2.0
PRODID:-//SportPlan//Event Calendar//EN
CALSCALE:GREGORIAN
BEGIN:VEVENT
UID:9d05160f-be70-4fb2-8825-4d674b734fc2@sportplan.local
DTSTAMP:20260420T173824Z
DTSTART;VALUE=DATE:20260801
DTEND;VALUE=DATE:20260803
SUMMARY:DEKA Trifecta Weekend Shepparton 2026
DESCRIPTION:DEKA Trifecta Weekend Shepparton 2026 is an official amateur hybrid-fitness weekend at MOVE Shepparton in Kialla\, Victoria on 1 and 2 August 2026. The official Spartan DEKA event page lists public DEKA FIT races on Saturday\, plus DEKA MILE and DEKA STRONG on Sunday\, making this a full DEKA participation weekend for everyday athletes.
LOCATION:MOVE Shepparton\, Kialla
URL:https://sportplan.vercel.app/de/events/deka-trifecta-weekend-shepparton-2026-kialla-2026-08-01
END:VEVENT
END:VCALENDAR
