BEGIN:VCALENDAR
VERSION:2.0
PRODID:-//SportPlan//Event Calendar//EN
CALSCALE:GREGORIAN
BEGIN:VEVENT
UID:5beb51b6-b87c-46ee-aaa5-14a13ba227d8@sportplan.local
DTSTAMP:20260420T190627Z
DTSTART;VALUE=DATE:20260620
DTEND;VALUE=DATE:20260622
SUMMARY:De Maasdijk
DESCRIPTION:
LOCATION:Oss
URL:https://sportplan.vercel.app/de/events/de-maasdijk-oss-2026-06-20
END:VEVENT
END:VCALENDAR
