BEGIN:VCALENDAR
VERSION:2.0
PRODID:-//SportPlan//Event Calendar//EN
CALSCALE:GREGORIAN
BEGIN:VEVENT
UID:3e6ab034-a0df-4de7-b05a-3840ced70fff@sportplan.local
DTSTAMP:20260420T192018Z
DTSTART;VALUE=DATE:20260829
DTEND;VALUE=DATE:20260830
SUMMARY:Czech Gravel Race Morava 2026
DESCRIPTION:
LOCATION:Olomouc\, Olomouc
URL:https://sportplan.vercel.app/de/events/czech-gravel-race-morava-2026-olomouc-2026-08-29
END:VEVENT
END:VCALENDAR
