BEGIN:VCALENDAR
VERSION:2.0
PRODID:-//SportPlan//Event Calendar//EN
CALSCALE:GREGORIAN
BEGIN:VEVENT
UID:07c0a608-8323-4f93-bf3b-a4c9ca22bcb8@sportplan.local
DTSTAMP:20260420T221529Z
DTSTART;VALUE=DATE:20260927
DTEND;VALUE=DATE:20260928
SUMMARY:CXM Macael Mármol
DESCRIPTION:CXM Macael Mármol se celebrará el 27 septiembre 2026 en Macael\, Almería\, ofreciendo una cita ideal para quienes buscan un reto bien organizado y un gran ambiente deportivo. Con un recorrido de 27 km\, es una buena oportunidad para marcar objetivos\, disfrutar del entorno y vivir la energía del evento de principio a fin.
LOCATION:Macael\, Almería
URL:https://sportplan.vercel.app/de/events/cxm-macael-m-rmol-macael-2026-09-27
END:VEVENT
END:VCALENDAR
