BEGIN:VCALENDAR
VERSION:2.0
PRODID:-//SportPlan//Event Calendar//EN
CALSCALE:GREGORIAN
BEGIN:VEVENT
UID:9052544c-9976-4a42-8e4c-d4c932c057d9@sportplan.local
DTSTAMP:20260420T191853Z
DTSTART;VALUE=DATE:20260510
DTEND;VALUE=DATE:20260511
SUMMARY:CXM del Maestrazgo
DESCRIPTION:CXM del Maestrazgo se celebra en Iglesuela del Cid\, Teruel el 10 de mayo de 2026\, reuniendo a corredores en un ambiente lleno de energía. Ya sea para buscar tu mejor marca o para disfrutar del recorrido\, es una gran oportunidad para vivir la carrera en Iglesuela del Cid\, Teruel.
LOCATION:Iglesuela del Cid\, Teruel
URL:https://sportplan.vercel.app/de/events/cxm-del-maestrazgo-iglesuela-del-cid-2026-05-10
END:VEVENT
END:VCALENDAR
