BEGIN:VCALENDAR
VERSION:2.0
PRODID:-//SportPlan//Event Calendar//EN
CALSCALE:GREGORIAN
BEGIN:VEVENT
UID:36eb8a6d-cca3-4bd1-b408-73ee25f4eb1c@sportplan.local
DTSTAMP:20260420T204328Z
DTSTART;VALUE=DATE:20260712
DTEND;VALUE=DATE:20260713
SUMMARY:CXM Boca del Infierno
DESCRIPTION:CXM Boca del Infierno se celebrará el 12 de julio de 2026 en Hecho\, Huesca. Es una cita ideal para quienes buscan una experiencia bien organizada con una distancia oficial y un ambiente deportivo atractivo. Participar en esta prueba es una gran oportunidad para disfrutar del recorrido\, marcarse un objetivo y vivir el evento junto a otros corredores.
LOCATION:Hecho\, Huesca
URL:https://sportplan.vercel.app/de/events/cxm-boca-del-infierno-hecho-2026-07-12
END:VEVENT
END:VCALENDAR
