BEGIN:VCALENDAR
VERSION:2.0
PRODID:-//SportPlan//Event Calendar//EN
CALSCALE:GREGORIAN
BEGIN:VEVENT
UID:96df446d-58c7-4ad2-9f55-64fa288394b9@sportplan.local
DTSTAMP:20260420T161247Z
DTSTART;VALUE=DATE:20260505
DTEND;VALUE=DATE:20260506
SUMMARY:Cursa Solidària de Muntanya de Cardedeu. Mitja Marató i 10K
DESCRIPTION:Cursa Solidària de Muntanya de Cardedeu. Mitja Marató i 10K se celebra el 5 mayo 2026 en Cardedeu\, Barcelona\, Cataluña\, ofreciendo una cita ideal para participantes que buscan una experiencia bien organizada y con ambiente deportivo. El evento propone un recorrido con una distancia aproximada de 21 km\, pensado para disfrutar del entorno\, mantener un buen ritmo y compartir la jornada con otros asistentes.
LOCATION:Cardedeu\, Barcelona\, Cataluña
URL:https://sportplan.vercel.app/de/events/cursa-solidaria-de-muntanya-de-cardedeu-mitja-marato-i-10k-cardedeu-2026-05-05-2
END:VEVENT
END:VCALENDAR
