BEGIN:VCALENDAR
VERSION:2.0
PRODID:-//SportPlan//Event Calendar//EN
CALSCALE:GREGORIAN
BEGIN:VEVENT
UID:1149e790-b79c-401b-afbb-90fac5ba11fc@sportplan.local
DTSTAMP:20260420T192115Z
DTSTART;VALUE=DATE:20260907
DTEND;VALUE=DATE:20260908
SUMMARY:Cursa Ibérica
DESCRIPTION:Cursa Ibérica se celebra en Figueroles de l´Alcalatén\, Castelló\, Comunidad Valenciana el 7 de septiembre de 2026\, reuniendo a los participantes para una jornada deportiva con gran ambiente. El recorrido cubre aproximadamente 17 km. Se espera una experiencia bien organizada\, un pelotón motivado y una excelente atmósfera el día del evento.
LOCATION:Figueroles de l´Alcalatén\, Castelló\, Comunidad Valenciana
URL:https://sportplan.vercel.app/de/events/cursa-iberica-figueroles-de-l-alcalaten-2026-09-07-17k
END:VEVENT
END:VCALENDAR
