BEGIN:VCALENDAR
VERSION:2.0
PRODID:-//SportPlan//Event Calendar//EN
CALSCALE:GREGORIAN
BEGIN:VEVENT
UID:31258e06-1db8-4b4b-bb40-a02f7bc56a5d@sportplan.local
DTSTAMP:20260420T192010Z
DTSTART;VALUE=DATE:20260922
DTEND;VALUE=DATE:20260923
SUMMARY:Cursa Entreparets 25 KM
DESCRIPTION:Cursa Entreparets 25 KM se celebrará el 22 septiembre 2026 en Vilafranca\, Castellón\, Comunidad Valenciana\, ofreciendo una cita ideal para quienes buscan un reto bien organizado y un gran ambiente deportivo. Con un recorrido de 25.2 km\, es una buena oportunidad para marcar objetivos\, disfrutar del entorno y vivir la energía del evento de principio a fin.
LOCATION:Vilafranca\, Castellón\, Comunidad Valenciana
URL:https://sportplan.vercel.app/de/events/cursa-entreparets-25-km-vilafranca-2026-09-22-25-24k
END:VEVENT
END:VCALENDAR
