BEGIN:VCALENDAR
VERSION:2.0
PRODID:-//SportPlan//Event Calendar//EN
CALSCALE:GREGORIAN
BEGIN:VEVENT
UID:b01b9ce4-21c8-4aec-9f7d-6fb4f9ec198e@sportplan.local
DTSTAMP:20260420T204118Z
DTSTART;VALUE=DATE:20260530
DTEND;VALUE=DATE:20260531
SUMMARY:Cross de Santiso 2026
DESCRIPTION:
LOCATION:Santiso
URL:https://sportplan.vercel.app/de/events/cross-de-santiso-2026
END:VEVENT
END:VCALENDAR
