BEGIN:VCALENDAR
VERSION:2.0
PRODID:-//SportPlan//Event Calendar//EN
CALSCALE:GREGORIAN
BEGIN:VEVENT
UID:f32ef0b6-8444-4cb5-b909-01f2c04a7a9d@sportplan.local
DTSTAMP:20260420T191302Z
DTSTART;VALUE=DATE:20260530
DTEND;VALUE=DATE:20260531
SUMMARY:Cross de Santiso 2026 — Andaina
DESCRIPTION:Cross de Santiso 2026 — Andaina es una prueba que se celebrará el 2026-05-30 en Santiso. Es una buena opción para quienes buscan una jornada activa y bien organizada. Ideal tanto para participantes habituales como para quienes quieren sumar una nueva experiencia al calendario.
LOCATION:Santiso
URL:https://sportplan.vercel.app/de/events/cross-de-santiso-2026-andaina-santiso-2026-05-30
END:VEVENT
END:VCALENDAR
