BEGIN:VCALENDAR
VERSION:2.0
PRODID:-//SportPlan//Event Calendar//EN
CALSCALE:GREGORIAN
BEGIN:VEVENT
UID:28218b89-7223-4e0e-b68e-93f0ef817083@sportplan.local
DTSTAMP:20260421T001401Z
DTSTART;VALUE=DATE:20261122
DTEND;VALUE=DATE:20261123
SUMMARY:Cros de Atapuerca Andaluz
DESCRIPTION:Cros de Atapuerca Andaluz se celebrará el 22 noviembre 2026 en Jaén\, ofreciendo una cita ideal para quienes quieren vivir el ambiente del evento desde cerca. Con una distancia aproximada de 10 km\, es una opción atractiva tanto para participantes habituales como para quienes quieren sumar un nuevo reto en el calendario.
LOCATION:Jaén
URL:https://sportplan.vercel.app/de/events/cros-de-atapuerca-andaluz-ja-n-2026-11-22
END:VEVENT
END:VCALENDAR
