BEGIN:VCALENDAR
VERSION:2.0
PRODID:-//SportPlan//Event Calendar//EN
CALSCALE:GREGORIAN
BEGIN:VEVENT
UID:b3041c05-4fb8-46d2-9f0d-a04694b62c26@sportplan.local
DTSTAMP:20260420T192101Z
DTSTART;VALUE=DATE:20260914
DTEND;VALUE=DATE:20260915
SUMMARY:Crono Asperillas por Parejas
DESCRIPTION:Crono Asperillas por Parejas se celebra el 14 de septiembre de 2026 en Casas del Castañar\, Cáceres\, Extremadura\, ofreciendo una experiencia deportiva exigente y bien organizada para participantes de distintos niveles. El recorrido de 14 km combina reto físico\, ambiente de evento y una buena oportunidad para disfrutar del entorno local. Es una cita ideal tanto para quienes buscan competir como para quienes quieren sumar una nueva meta al calendario.
LOCATION:Casas del Castañar\, Cáceres\, Extremadura
URL:https://sportplan.vercel.app/de/events/crono-asperillas-por-parejas-casas-del-castanar-2026-09-14-14-5k
END:VEVENT
END:VCALENDAR
