BEGIN:VCALENDAR
VERSION:2.0
PRODID:-//SportPlan//Event Calendar//EN
CALSCALE:GREGORIAN
BEGIN:VEVENT
UID:4b76cdc3-bb30-4537-8060-4814099f66d9@sportplan.local
DTSTAMP:20260420T191935Z
DTSTART;VALUE=DATE:20260503
DTEND;VALUE=DATE:20260504
SUMMARY:Crete Senesi Ultramarathon (Tuscany)
DESCRIPTION:Crete Senesi Ultramarathon (Tuscany) si terrà il 03/05/2026 a Rapolano Terme\, IT\, con una distanza ufficiale definita dagli organizzatori. È un’ottima occasione per vivere l’atmosfera dell’evento\, porsi un obiettivo sportivo e trascorrere una giornata attiva in un contesto speciale.
LOCATION:Rapolano Terme
URL:https://sportplan.vercel.app/de/events/crete-senesi-ultramarathon-tuscany-rapolano-terme-2026-05-03
END:VEVENT
END:VCALENDAR
