BEGIN:VCALENDAR
VERSION:2.0
PRODID:-//SportPlan//Event Calendar//EN
CALSCALE:GREGORIAN
BEGIN:VEVENT
UID:011396d4-dbe4-48f7-b010-90892082b307@sportplan.local
DTSTAMP:20260420T192039Z
DTSTART;VALUE=DATE:20260607
DTEND;VALUE=DATE:20260608
SUMMARY:CRC 506 Gran Fondo Costa Rica 2026
DESCRIPTION:CRC 506 Gran Fondo Costa Rica 2026 is a mass-participation UCI Gran Fondo World Series qualifier on Costa Rica's Pacific coast\, with a 141 km granfondo from Jacó to Quepos and back plus a 72.9 km mediofondo finishing in Jacó.
LOCATION:Jacó\, Puntarenas
URL:https://sportplan.vercel.app/de/events/crc-506-gran-fondo-costa-rica-2026-2026-06-07
END:VEVENT
END:VCALENDAR
