BEGIN:VCALENDAR
VERSION:2.0
PRODID:-//SportPlan//Event Calendar//EN
CALSCALE:GREGORIAN
BEGIN:VEVENT
UID:dd224031-3a7c-488e-8366-c0dc37cfd7f1@sportplan.local
DTSTAMP:20260420T191746Z
DTSTART;VALUE=DATE:20260510
DTEND;VALUE=DATE:20260511
SUMMARY:Corrida Fernanda Ribeiro
DESCRIPTION:Corrida Fernanda Ribeiro acontece em Cidade da Maia no dia 10 de maio de 2026\, reunindo participantes em um ambiente esportivo e motivador. Seja para buscar um novo recorde pessoal ou para aproveitar o percurso\, a prova é uma ótima oportunidade para curtir a corrida em Cidade da Maia.
LOCATION:Cidade da Maia
URL:https://sportplan.vercel.app/de/events/corrida-fernanda-ribeiro-cidade-da-maia-2026-05-10
END:VEVENT
END:VCALENDAR
