BEGIN:VCALENDAR
VERSION:2.0
PRODID:-//SportPlan//Event Calendar//EN
CALSCALE:GREGORIAN
BEGIN:VEVENT
UID:995007cf-d157-43ef-b02f-0e2a0b452dcd@sportplan.local
DTSTAMP:20260420T204811Z
DTSTART;VALUE=DATE:20261231
DTEND;VALUE=DATE:20270101
SUMMARY:Corrida de São Silvestre 2026
DESCRIPTION:Corrida de São Silvestre 2026 acontece em 31 de dezembro de 2026\, em São Paulo\, São Paulo. É uma boa opção para quem quer aproveitar o evento ao vivo e organizar o dia com antecedência. O local previsto fica a cerca de 15 km\, por isso vale a pena confirmar acessos\, horários e estrutura antes de sair.
LOCATION:São Paulo\, São Paulo
URL:https://sportplan.vercel.app/de/events/corrida-de-s-o-silvestre-2026-s-o-paulo-2026-12-31
END:VEVENT
END:VCALENDAR
