BEGIN:VCALENDAR
VERSION:2.0
PRODID:-//SportPlan//Event Calendar//EN
CALSCALE:GREGORIAN
BEGIN:VEVENT
UID:1e54f049-af66-4e9b-97d8-1ed6710b90f0@sportplan.local
DTSTAMP:20260420T204847Z
DTSTART;VALUE=DATE:20260516
DTEND;VALUE=DATE:20261231
SUMMARY:Circuito Onupolis Huelva 2026 — Inscripción Menores de 16 Años 5K Circuito Onupolis Huelva 2026 5K
DESCRIPTION:Circuito Onupolis Huelva 2026 — Inscripción Menores de 16 Años 5K Circuito Onupolis Huelva 2026 5K se celebra el 16 de mayo de 2026 en Huelva. La prueba recorre 5 km. Ideal para participantes que quieren disfrutar del recorrido\, el ambiente del evento y una jornada activa.
LOCATION:Huelva
URL:https://sportplan.vercel.app/de/events/circuito-onupolis-huelva-2026-inscripcion-menores-de-16-anos-5k-circuito-onupolis-huelva-2026-5k-huelva-2026-05-16
END:VEVENT
END:VCALENDAR
