BEGIN:VCALENDAR
VERSION:2.0
PRODID:-//SportPlan//Event Calendar//EN
CALSCALE:GREGORIAN
BEGIN:VEVENT
UID:f0b1beef-b7b7-47a0-82de-e0eb74090ddc@sportplan.local
DTSTAMP:20260420T161043Z
DTSTART;VALUE=DATE:20260426
DTEND;VALUE=DATE:20260427
SUMMARY:Cim
DESCRIPTION:Cim se celebra el 26 de abril de 2026 en Corbera de Llobregat\, Barcelona\, Cataluña\, con un recorrido de 10 km. Es una gran cita para corredores que buscan una experiencia bien organizada y un ambiente competitivo en un entorno destacado.
LOCATION:Corbera de Llobregat\, Barcelona\, Cataluña
URL:https://sportplan.vercel.app/de/events/cim-corbera-de-llobregat-2026-04-26-10k
END:VEVENT
END:VCALENDAR
