BEGIN:VCALENDAR
VERSION:2.0
PRODID:-//SportPlan//Event Calendar//EN
CALSCALE:GREGORIAN
BEGIN:VEVENT
UID:2c107dc0-9fd3-483a-b81d-e3b66628564f@sportplan.local
DTSTAMP:20260420T221902Z
DTSTART;VALUE=DATE:20260906
DTEND;VALUE=DATE:20260907
SUMMARY:Chungju International Triathlon & Marathon 2026
DESCRIPTION:Official World Athletics calendar\; annual autumn marathon at Chungju Lake\, North Chungcheong Province
LOCATION:Chungju (KOR)
URL:https://sportplan.vercel.app/de/events/chungju-international-triathlon-marathon-2026-2026-09-06
END:VEVENT
END:VCALENDAR
