BEGIN:VCALENDAR
VERSION:2.0
PRODID:-//SportPlan//Event Calendar//EN
CALSCALE:GREGORIAN
BEGIN:VEVENT
UID:c1796a55-6825-47d2-8eab-56a88e941734@sportplan.local
DTSTAMP:20260420T222242Z
DTSTART;VALUE=DATE:20261025
DTEND;VALUE=DATE:20261026
SUMMARY:Chuncheon Marathon 2026
DESCRIPTION:Chuncheon Marathon 2026 대회는 2026년 10월 25일에 Chuncheon\, Gangwon에서 열리며\, 잘 준비된 스포츠 이벤트로 많은 참가자를 맞이합니다. 이번 대회는 도전과 즐거움의 균형이 좋은 42.2km 코스를 제공합니다. 현지 분위기를 즐기면서 시즌 목표에 도전하기에 좋은 기회입니다.
LOCATION:Chuncheon\, Gangwon
URL:https://sportplan.vercel.app/de/events/chuncheon-marathon-2026-chuncheon-2026-10-25
END:VEVENT
END:VCALENDAR
