BEGIN:VCALENDAR
VERSION:2.0
PRODID:-//SportPlan//Event Calendar//EN
CALSCALE:GREGORIAN
BEGIN:VEVENT
UID:4a85e0d9-1a54-400f-ac57-a522db195e56@sportplan.local
DTSTAMP:20260421T030345Z
DTSTART;VALUE=DATE:20261010
DTEND;VALUE=DATE:20261011
SUMMARY:Chobani Fit 3km
DESCRIPTION:Official race page
LOCATION:Melbourne\, Australia
URL:https://sportplan.vercel.app/de/events/chobani-fit-3km-2026-10-10
END:VEVENT
END:VCALENDAR
