BEGIN:VCALENDAR
VERSION:2.0
PRODID:-//SportPlan//Event Calendar//EN
CALSCALE:GREGORIAN
BEGIN:VEVENT
UID:7abb58fd-5011-4c7e-8719-cad91e66490f@sportplan.local
DTSTAMP:20260420T191644Z
DTSTART;VALUE=DATE:20260704
DTEND;VALUE=DATE:20260705
SUMMARY:China Airlines Half Marathon
DESCRIPTION:Official half marathon event page.
LOCATION:Gold Coast\, Queensland\, Australia
URL:https://sportplan.vercel.app/de/events/china-airlines-half-marathon-2026-07-04
END:VEVENT
END:VCALENDAR
