BEGIN:VCALENDAR
VERSION:2.0
PRODID:-//SportPlan//Event Calendar//EN
CALSCALE:GREGORIAN
BEGIN:VEVENT
UID:2b93242d-7fc8-4c2f-bdeb-70938d0d1eed@sportplan.local
DTSTAMP:20260420T204612Z
DTSTART;VALUE=DATE:20260510
DTEND;VALUE=DATE:20260511
SUMMARY:Chianti Classico Marathon
DESCRIPTION:Chianti Classico Marathon si svolge a Mercatale In Val di Pesa il 10 maggio 2026\, offrendo un'atmosfera coinvolgente per runner di tutti i livelli. Che tu voglia inseguire il tuo personal best o semplicemente goderti il percorso\, sarà una splendida giornata di sport a Mercatale In Val di Pesa.
LOCATION:Mercatale In Val di Pesa
URL:https://sportplan.vercel.app/de/events/chianti-classico-marathon-mercatale-in-val-di-pesa-2026-05-10
END:VEVENT
END:VCALENDAR
