BEGIN:VCALENDAR
VERSION:2.0
PRODID:-//SportPlan//Event Calendar//EN
CALSCALE:GREGORIAN
BEGIN:VEVENT
UID:7a777b6a-e970-4302-8b35-800d19e6179c@sportplan.local
DTSTAMP:20260420T204205Z
DTSTART;VALUE=DATE:20270127
DTEND;VALUE=DATE:20270128
SUMMARY:Challenge ISRAMAN 2027 – Registration
DESCRIPTION:Official Challenge ISRAMAN 2027 registration page\; early registration 10/02/2026 – 07/05/2026\; IL TIER1 triathlon expansion\; stable direct registration URL confirmed from official site nav
LOCATION:Eilat\, Israel
URL:https://sportplan.vercel.app/de/events/challenge-israman-2027-registration-2027-01-27
END:VEVENT
END:VCALENDAR
