BEGIN:VCALENDAR
VERSION:2.0
PRODID:-//SportPlan//Event Calendar//EN
CALSCALE:GREGORIAN
BEGIN:VEVENT
UID:b37ba4b1-c180-4e7e-8251-94aeb23a1fbd@sportplan.local
DTSTAMP:20260420T220738Z
DTSTART;VALUE=DATE:20261025
DTEND;VALUE=DATE:20261026
SUMMARY:Challenge Forte Village
DESCRIPTION:discovered via official Challenge Family race pages\; middle-distance triathlon event hosted at Forte Village Resort
LOCATION:Sardinia\, Italy
URL:https://sportplan.vercel.app/de/events/challenge-forte-village-2026-10-25
END:VEVENT
END:VCALENDAR
