BEGIN:VCALENDAR
VERSION:2.0
PRODID:-//SportPlan//Event Calendar//EN
CALSCALE:GREGORIAN
BEGIN:VEVENT
UID:8fc1ab91-4f4c-42f8-a8be-25266184fc6c@sportplan.local
DTSTAMP:20260420T191534Z
DTSTART;VALUE=DATE:20260910
DTEND;VALUE=DATE:20260913
SUMMARY:Challenge Almere-Amsterdam
DESCRIPTION:Challenge Almere-Amsterdam vindt plaats in Almere op 10 september 2026 en brengt deelnemers samen voor een sportieve dag met een sterke sfeer. Verwacht een goed georganiseerd evenement\, gemotiveerde deelnemers en een fijne lokale wedstrijddag.
LOCATION:Almere
URL:https://sportplan.vercel.app/de/events/challenge-almere-amsterdam-almere-2026-09-10
END:VEVENT
END:VCALENDAR
