BEGIN:VCALENDAR
VERSION:2.0
PRODID:-//SportPlan//Event Calendar//EN
CALSCALE:GREGORIAN
BEGIN:VEVENT
UID:3a52fbbe-a732-4480-bec5-6973ddd000bb@sportplan.local
DTSTAMP:20260420T174105Z
DTSTART;VALUE=DATE:20260716
DTEND;VALUE=DATE:20260719
SUMMARY:Ccc By UTMB — Grau Roig 100K 2026
DESCRIPTION:Ccc By UTMB — Grau Roig 100K 2026 se déroule à Grau Roig\, Andorra le 16 juillet 2026\, en rassemblant les coureurs dans un cadre agréable et une belle ambiance sportive. L'épreuve propose sur environ 100 km\, avec un parcours bien balisé et une belle ambiance de course\, ce qui en fait un excellent choix aussi bien pour se challenger que pour profiter pleinement de la journée.
LOCATION:Grau Roig\, Andorra
URL:https://sportplan.vercel.app/de/events/ccc-by-utmb-grau-roig-100k-2026-grau-roig-2026-07-16
END:VEVENT
END:VCALENDAR
