BEGIN:VCALENDAR
VERSION:2.0
PRODID:-//SportPlan//Event Calendar//EN
CALSCALE:GREGORIAN
BEGIN:VEVENT
UID:5c9db007-f843-4925-a6ed-aada2b91bd2e@sportplan.local
DTSTAMP:20260420T191932Z
DTSTART;VALUE=DATE:20260509
DTEND;VALUE=DATE:20260518
SUMMARY:Cavernícola Race Mapfre Barbadás 2026 — Tanda 3 (Starter) 3K
DESCRIPTION:Cavernícola Race Mapfre Barbadás 2026 — Tanda 3 (Starter) 3K se celebra el 9 mayo 2026 en Barbadás\, ofreciendo una cita ideal para participantes que buscan una experiencia bien organizada y con ambiente deportivo. El evento propone un recorrido con una distancia aproximada de 3 km\, pensado para disfrutar del entorno\, mantener un buen ritmo y compartir la jornada con otros asistentes.
LOCATION:Barbadás
URL:https://sportplan.vercel.app/de/events/cavernicola-race-mapfre-barbadas-2026-tanda-3-starter-3k-barbadas-2026-05-09
END:VEVENT
END:VCALENDAR
