BEGIN:VCALENDAR
VERSION:2.0
PRODID:-//SportPlan//Event Calendar//EN
CALSCALE:GREGORIAN
BEGIN:VEVENT
UID:053dd079-df03-4b9f-9a58-e7a3d3258efd@sportplan.local
DTSTAMP:20260420T191907Z
DTSTART;VALUE=DATE:20260509
DTEND;VALUE=DATE:20260518
SUMMARY:Cavernícola Race Mapfre Barbadás 2026 — Tanda 2 (Starter) 2K
DESCRIPTION:Cavernícola Race Mapfre Barbadás 2026 — Tanda 2 (Starter) 2K se celebra el 9 mayo 2026 en Barbadás\, ofreciendo una cita ideal para participantes que buscan una experiencia bien organizada y con ambiente deportivo. El evento propone un recorrido con un recorrido claramente señalizado\, pensado para disfrutar del entorno\, mantener un buen ritmo y compartir la jornada con otros asistentes.
LOCATION:Barbadás
URL:https://sportplan.vercel.app/de/events/cavernicola-race-mapfre-barbadas-2026-tanda-2-starter-2k-barbadas-2026-05-09
END:VEVENT
END:VCALENDAR
