BEGIN:VCALENDAR
VERSION:2.0
PRODID:-//SportPlan//Event Calendar//EN
CALSCALE:GREGORIAN
BEGIN:VEVENT
UID:5972c3e7-7543-4d90-8fe5-6a2d11f41d66@sportplan.local
DTSTAMP:20260420T204719Z
DTSTART;VALUE=DATE:20260509
DTEND;VALUE=DATE:20260518
SUMMARY:Cavernícola Race Mapfre Barbadás 2026 — Fila 0
DESCRIPTION:Cavernícola Race Mapfre Barbadás 2026 — Fila 0 se celebra el 9 mayo 2026 en Barbadás\, ofreciendo una cita ideal para participantes que buscan una experiencia bien organizada y con ambiente deportivo. El evento propone un recorrido con un recorrido claramente señalizado\, pensado para disfrutar del entorno\, mantener un buen ritmo y compartir la jornada con otros asistentes.
LOCATION:Barbadás
URL:https://sportplan.vercel.app/de/events/cavernicola-race-mapfre-barbadas-2026-fila-0-barbadas-2026-05-09
END:VEVENT
END:VCALENDAR
