BEGIN:VCALENDAR
VERSION:2.0
PRODID:-//SportPlan//Event Calendar//EN
CALSCALE:GREGORIAN
BEGIN:VEVENT
UID:a1ad4d4c-ae46-459e-98b2-cfb465395b77@sportplan.local
DTSTAMP:20260420T204709Z
DTSTART;VALUE=DATE:20260608
DTEND;VALUE=DATE:20260609
SUMMARY:Casamanya Extrem Vertical Race
DESCRIPTION:Casamanya Extrem Vertical Race aura lieu à Ordino\, Andorra le 8 juin 2026. C'est un rendez-vous idéal pour profiter de l'ambiance de l'événement sur une distance de 5 km et vivre une expérience sportive bien organisée. Une belle option pour les participants qui veulent se dépasser comme pour ceux qui recherchent une journée active dans un cadre agréable.
LOCATION:Ordino\, Andorra
URL:https://sportplan.vercel.app/de/events/casamanya-extrem-vertical-race-ordino-2026-06-08-5k
END:VEVENT
END:VCALENDAR
