BEGIN:VCALENDAR
VERSION:2.0
PRODID:-//SportPlan//Event Calendar//EN
CALSCALE:GREGORIAN
BEGIN:VEVENT
UID:19f7f560-71c8-40a3-8b17-2a46bdd7f7c9@sportplan.local
DTSTAMP:20260420T204611Z
DTSTART;VALUE=DATE:20261117
DTEND;VALUE=DATE:20261118
SUMMARY:Carrera Popular Vigo+11
DESCRIPTION:Carrera Popular Vigo+11 se celebrará el 17 noviembre 2026 en Vigo\, Pontevedra\, Galicia\, ofreciendo una cita ideal para quienes quieren vivir el ambiente del evento desde cerca. Con una distancia aproximada de 10 km\, es una opción atractiva tanto para participantes habituales como para quienes quieren sumar un nuevo reto en el calendario.
LOCATION:Vigo\, Pontevedra\, Galicia
URL:https://sportplan.vercel.app/de/events/carrera-popular-vigo-11-vigo-2026-11-17-10k
END:VEVENT
END:VCALENDAR
