BEGIN:VCALENDAR
VERSION:2.0
PRODID:-//SportPlan//Event Calendar//EN
CALSCALE:GREGORIAN
BEGIN:VEVENT
UID:33dfadb5-2001-4e40-81f8-521bcf0b0b5a@sportplan.local
DTSTAMP:20260420T221703Z
DTSTART;VALUE=DATE:20260601
DTEND;VALUE=DATE:20260602
SUMMARY:Carrera de Montaña Chandrexa
DESCRIPTION:Carrera de Montaña Chandrexa se celebra el 1 de junio de 2026 en Chandrexa de Queixa\, Ourense\, Galicia. Es una excelente opción para quienes quieren disfrutar de un evento bien organizado en este destino. La prueba recorre 28 km. Se espera un ambiente animado y una jornada memorable tanto para corredores habituales como para debutantes.
LOCATION:Chandrexa de Queixa\, Ourense\, Galicia
URL:https://sportplan.vercel.app/de/events/carrera-de-montana-chandrexa-chandrexa-de-queixa-2026-06-01-28k
END:VEVENT
END:VCALENDAR
