BEGIN:VCALENDAR
VERSION:2.0
PRODID:-//SportPlan//Event Calendar//EN
CALSCALE:GREGORIAN
BEGIN:VEVENT
UID:112c1323-591b-4c69-ab31-d0d92d6d2de7@sportplan.local
DTSTAMP:20260421T001400Z
DTSTART;VALUE=DATE:20260704
DTEND;VALUE=DATE:20260705
SUMMARY:Carrera al Angliru
DESCRIPTION:Carrera al Angliru se celebrará el 4 de julio de 2026 en Riosa\, Alto el Angliru. Es una buena cita para participantes que buscan una experiencia deportiva bien organizada y un ambiente motivador. El recorrido cubre aproximadamente 10 km. Consulta la información oficial del evento para conocer horarios\, recorridos y detalles logísticos.
LOCATION:Riosa\, Alto el Angliru
URL:https://sportplan.vercel.app/de/events/carrera-al-angliru-riosa-2026-07-04
END:VEVENT
END:VCALENDAR
