BEGIN:VCALENDAR
VERSION:2.0
PRODID:-//SportPlan//Event Calendar//EN
CALSCALE:GREGORIAN
BEGIN:VEVENT
UID:2a09d24e-3d52-4157-ac93-b0aa4627f3d4@sportplan.local
DTSTAMP:20260420T204535Z
DTSTART;VALUE=DATE:20260928
DTEND;VALUE=DATE:20260929
SUMMARY:Cantabrian Trail 20K 12K
DESCRIPTION:Cantabrian Trail 20K 12K se celebra en Penagos\, Cantabria\, Cantabria el 28 de septiembre de 2026\, ofreciendo a los corredores una ocasión ideal para disfrutar de un ambiente competitivo y bien organizado en ES. La distancia anunciada es de 20 km\, una propuesta atractiva para corredores que buscan un reto claro y una jornada especial. Es una prueba pensada para vivir una jornada deportiva motivadora\, tanto para atletas experimentados como para participantes entusiastas.
LOCATION:Penagos\, Cantabria\, Cantabria
URL:https://sportplan.vercel.app/de/events/cantabrian-trail-20k-12k-penagos-2026-09-28-20k
END:VEVENT
END:VCALENDAR
