BEGIN:VCALENDAR
VERSION:2.0
PRODID:-//SportPlan//Event Calendar//EN
CALSCALE:GREGORIAN
BEGIN:VEVENT
UID:cb5bfb33-82bb-4e54-9df5-95936a4f7e54@sportplan.local
DTSTAMP:20260420T234315Z
DTSTART;VALUE=DATE:20260801
DTEND;VALUE=DATE:20260802
SUMMARY:Canillo Trail 25K
DESCRIPTION:Canillo Trail 25K aura lieu le 1 août 2026 à Canillo. C'est un rendez-vous intéressant pour les participants qui recherchent une organisation solide et une belle expérience sportive. La distance annoncée est de 25 km\, utile pour préparer votre allure\, votre entraînement et votre logistique.
LOCATION:Canillo
URL:https://sportplan.vercel.app/de/events/canillo-trail-25k-canillo-2026-08-01-25k
END:VEVENT
END:VCALENDAR
