BEGIN:VCALENDAR
VERSION:2.0
PRODID:-//SportPlan//Event Calendar//EN
CALSCALE:GREGORIAN
BEGIN:VEVENT
UID:41b75a89-20a6-45ab-928b-c5b1f120f2de@sportplan.local
DTSTAMP:20260420T192150Z
DTSTART;VALUE=DATE:20261128
DTEND;VALUE=DATE:20261129
SUMMARY:CAMPEONATO NACIONAL DE TRIATLÓN GRAN JAGUAR 70.3 2026 — 70.3 GRAN JAGUAR
DESCRIPTION:
LOCATION:Flores Petén
URL:https://sportplan.vercel.app/de/events/campeonato-nacional-de-triatlon-gran-jaguar-70-3-2026-70-3-gran-jaguar-flores-peten-2026-11-28
END:VEVENT
END:VCALENDAR
