BEGIN:VCALENDAR
VERSION:2.0
PRODID:-//SportPlan//Event Calendar//EN
CALSCALE:GREGORIAN
BEGIN:VEVENT
UID:54d3ca72-d076-4d8d-a686-77a618a5b506@sportplan.local
DTSTAMP:20260420T174107Z
DTSTART;VALUE=DATE:20260806
DTEND;VALUE=DATE:20260807
SUMMARY:BVS Akvatlon 2026
DESCRIPTION:BVS Akvatlon 2026 is an official Serbian Triathlon Federation aquathlon in Banatsko Veliko Selo\, Serbia on 6 August 2026. The federation calendar lists it as a scheduled aquathlon and identifies TK ATP as the organizer\, giving athletes a federation-backed official event page\, date\, venue\, and organizer contact for an amateur participation race.
LOCATION:Banatsko Veliko Selo
URL:https://sportplan.vercel.app/de/events/bvs-akvatlon-banatsko-veliko-selo-2026-08-06
END:VEVENT
END:VCALENDAR
