BEGIN:VCALENDAR
VERSION:2.0
PRODID:-//SportPlan//Event Calendar//EN
CALSCALE:GREGORIAN
BEGIN:VEVENT
UID:b9867809-9656-4272-a705-857d5e23a434@sportplan.local
DTSTAMP:20260421T030456Z
DTSTART;VALUE=DATE:20261010
DTEND;VALUE=DATE:20261011
SUMMARY:Bupa Healthy Cities Mini Marathon
DESCRIPTION:Official race page
LOCATION:Melbourne\, Australia
URL:https://sportplan.vercel.app/de/events/bupa-healthy-cities-mini-marathon-2026-10-10
END:VEVENT
END:VCALENDAR
