BEGIN:VCALENDAR
VERSION:2.0
PRODID:-//SportPlan//Event Calendar//EN
CALSCALE:GREGORIAN
BEGIN:VEVENT
UID:0ff8a6da-451c-4510-bfce-71a3693f1da0@sportplan.local
DTSTAMP:20260420T204600Z
DTSTART;VALUE=DATE:20261018
DTEND;VALUE=DATE:20261019
SUMMARY:Buenos Aires Marathon 2026
DESCRIPTION:Buenos Aires Marathon 2026 se celebrará el 18 de octubre de 2026 en Buenos Aires\, Buenos Aires\, reuniendo a participantes que buscan una jornada deportiva bien organizada. La prueba propone un recorrido de 42.2 km que combina reto y disfrute. Es una excelente oportunidad para disfrutar del ambiente local\, marcarse un objetivo de temporada y vivir el evento con buena energía.
LOCATION:Buenos Aires\, Buenos Aires
URL:https://sportplan.vercel.app/de/events/buenos-aires-marathon-2026-buenos-aires-2026-10-18
END:VEVENT
END:VCALENDAR
