BEGIN:VCALENDAR
VERSION:2.0
PRODID:-//SportPlan//Event Calendar//EN
CALSCALE:GREGORIAN
BEGIN:VEVENT
UID:593cddfd-7829-4ae4-bbfc-b7195863e2bf@sportplan.local
DTSTAMP:20260420T204532Z
DTSTART;VALUE=DATE:20260823
DTEND;VALUE=DATE:20260824
SUMMARY:Buenos Aires Half Marathon 2026
DESCRIPTION:Buenos Aires Half Marathon 2026 se celebrará el 23 de agosto de 2026 en Buenos Aires\, Buenos Aires. Es una cita ideal para quienes buscan un reto bien organizado en AR y un ambiente motivador durante toda la jornada. Con una distancia aproximada de 21.1 km\, ofrece una experiencia deportiva atractiva tanto para participantes habituales como para quienes quieren marcarse un nuevo objetivo.
LOCATION:Buenos Aires\, Buenos Aires
URL:https://sportplan.vercel.app/de/events/buenos-aires-half-marathon-2026-buenos-aires-2026-08-23
END:VEVENT
END:VCALENDAR
