BEGIN:VCALENDAR
VERSION:2.0
PRODID:-//SportPlan//Event Calendar//EN
CALSCALE:GREGORIAN
BEGIN:VEVENT
UID:689a0b4a-2bcd-472b-a3b9-db4932eafaa7@sportplan.local
DTSTAMP:20260420T190625Z
DTSTART;VALUE=DATE:20260906
DTEND;VALUE=DATE:20260907
SUMMARY:Bromo Marathon
DESCRIPTION:Discovered via World’s Marathons country page\; adds Indonesia road/trail volcanic terrain event coverage.
LOCATION:Jawa Timur\, Indonesia
URL:https://sportplan.vercel.app/de/events/bromo-marathon-2026-09-06
END:VEVENT
END:VCALENDAR
