BEGIN:VCALENDAR
VERSION:2.0
PRODID:-//SportPlan//Event Calendar//EN
CALSCALE:GREGORIAN
BEGIN:VEVENT
UID:a6c30934-3d63-4aba-8bd2-a89fdd7f29f9@sportplan.local
DTSTAMP:20260420T190731Z
DTSTART;VALUE=DATE:20260607
DTEND;VALUE=DATE:20260608
SUMMARY:Brisbane Marathon
DESCRIPTION:Discovered via RunCalendar Australia marathons listing.
LOCATION:Brisbane\, QLD\, Australia
URL:https://sportplan.vercel.app/de/events/brisbane-marathon-2026-06-07
END:VEVENT
END:VCALENDAR
