BEGIN:VCALENDAR
VERSION:2.0
PRODID:-//SportPlan//Event Calendar//EN
CALSCALE:GREGORIAN
BEGIN:VEVENT
UID:16b55a78-ebd2-4d0d-885b-9c17d37b4362@sportplan.local
DTSTAMP:20260420T190730Z
DTSTART;VALUE=DATE:20260426
DTEND;VALUE=DATE:20260427
SUMMARY:Bottlebutt Bash Trail Run
DESCRIPTION:
LOCATION:Bobs Creek
URL:https://sportplan.vercel.app/de/events/bottlebutt-bash-trail-run-bobs-creek-2026-04-26
END:VEVENT
END:VCALENDAR
