BEGIN:VCALENDAR
VERSION:2.0
PRODID:-//SportPlan//Event Calendar//EN
CALSCALE:GREGORIAN
BEGIN:VEVENT
UID:77c4e10f-7fd0-47e9-8b85-27c0ba3faa90@sportplan.local
DTSTAMP:20260420T161737Z
DTSTART;VALUE=DATE:20260420
DTEND;VALUE=DATE:20260421
SUMMARY:Boston Marathon 2026
DESCRIPTION:The Boston Athletic Association is the official organizer of the Boston Marathon and publishes participant\, para-athlete\, spectator\, volunteer\, and race-week information on its official site. The event is the B.A.A. flagship annual marathon in Boston and remains one of the world's best-known amateur-enterable road races.
LOCATION:Boston\, Massachusetts
URL:https://sportplan.vercel.app/de/events/boston-marathon-2026-boston-2026-04-20
END:VEVENT
END:VCALENDAR
