BEGIN:VCALENDAR
VERSION:2.0
PRODID:-//SportPlan//Event Calendar//EN
CALSCALE:GREGORIAN
BEGIN:VEVENT
UID:01aca635-fcf1-4f6b-ade0-d87cfabb0cb6@sportplan.local
DTSTAMP:20260420T220046Z
DTSTART;VALUE=DATE:20260905
DTEND;VALUE=DATE:20260906
SUMMARY:Borkumer Meilenlauf
DESCRIPTION:Official event site validated via web_fetch\; road run with Nordic walking programme.
LOCATION:Borkum\, Germany
URL:https://sportplan.vercel.app/de/events/borkumer-meilenlauf-2026-09-05
END:VEVENT
END:VCALENDAR
